Workbook

Sheet SAŽETAK
A1: PRVE IZMJENE I DOPUNE FINANCIJSKOG PLANA PRORAČUNSKOG KORISNIKA DRŽAVNOG PRORAČUNA ZA 2026.
A3: I. OPĆI DIO
A5: A. SAŽETAK RAČUNA PRIHODA I RASHODA
A7: BROJČANA OZNAKA I NAZIV | F7: IZVORNI PLAN ILI REBALANS | G7: REBALANS | H7: NOVI PLAN
A8: 1 | F8: 2 | G8: 3 | H8: 4
A9: 6 PRIHODI POSLOVANJA | F9: =' Račun prihoda i rashoda-ekonom'!F11 -> 18359582 | G9: =' Račun prihoda i rashoda-ekonom'!G11 -> 299079 | H9: =' Račun prihoda i rashoda-ekonom'!H11 -> 18658661
A10: 7 PRIHODI OD PRODAJE NEFINANCIJSKE IMOVINE | F10: =' Račun prihoda i rashoda-ekonom'!F18 -> 0 | G10: =' Račun prihoda i rashoda-ekonom'!G18 -> 0 | H10: =' Račun prihoda i rashoda-ekonom'!H18 -> 0
A11: PRIHODI UKUPNO | F11: =F9+F10 -> 18359582 | G11: =G9+G10 -> 299079 | H11: =H9+H10 -> 18658661
A12: 3 RASHODI POSLOVANJA | F12: =' Račun prihoda i rashoda-ekonom'!F24 -> 17497962 | G12: =' Račun prihoda i rashoda-ekonom'!G24 -> 474448 | H12: =' Račun prihoda i rashoda-ekonom'!H24 -> 17972410
A13: 4 RASHODI ZA NABAVU NEFINANCIJSKE IMOVINE | F13: =' Račun prihoda i rashoda-ekonom'!F29 -> 863132 | G13: =' Račun prihoda i rashoda-ekonom'!G29 -> -42359 | H13: =' Račun prihoda i rashoda-ekonom'!H29 -> 820773
A14: RASHODI UKUPNO | F14: =F12+F13 -> 18361094 | G14: =G12+G13 -> 432089 | H14: =H12+H13 -> 18793183
A15: RAZLIKA - VIŠAK / MANJAK | F15: =F11-F14 -> -1512 | G15: =G11-G14 -> -133010 | H15: =H11-H14 -> -134522
A17: B. SAŽETAK RAČUNA FINANCIRANJA
A19: BROJČANA OZNAKA I NAZIV | F19: IZVORNI PLAN ILI REBALANS | G19: REBALANS | H19: NOVI PLAN
A20: 1 | F20: 2 | G20: 3 | H20: 4
A21: 8 PRIMICI OD FINANCIJSKE IMOVINE I ZADUŽIVANJA | F21: 0 | G21: 0 | H21: 0
A22: 5 IZDACI ZA FINANCIJSKU IMOVINU I OTPLATE ZAJMOVA | F22: 0 | G22: 0 | H22: 0
A23: RAZLIKA PRIMITAKA I IZDATAKA | F23: =F21-F22 -> 0 | G23: =G21-G22 -> 0 | H23: =H21-H22 -> 0
A24: PRIJENOS SREDSTAVA IZ PRETHODNE GODINE | F24: 1512 | G24: 169310 | H24: =F24+G24 -> 170822
A25: PRIJENOS SREDSTAVA U SLJEDEĆE RAZDOBLJE | F25: 0 | G25: 36300 | H25: =F25+G25 -> 36300
A26: NETO FINANCIRANJE | F26: =F23+F24-F25 -> 1512 | G26: =G23+G24-G25 -> 133010 | H26: =H23+H24-H25 -> 134522
A27: VIŠAK / MANJAK + NETO FINANCIRANJE | F27: =F15+F26 -> 0 | G27: =G15+G26 -> 0 | H27: =H15+H26 -> 0

Sheet  Račun prihoda i rashoda-ekonom
A2: I. OPĆI DIO
A4: A. RAČUN PRIHODA I RASHODA
A6: A1. PRIHODI I RASHODI PREMA EKONOMSKOJ KLASIFIKACIJI
A8: BROJČANA OZNAKA I NAZIV | D8: IZVRŠENJE 2022. | E8: TEKUĆI PLAN 2023. | F8: IZVORNI PLAN ILI REBALANS | G8: REBALANS | H8: NOVI PLAN
A9: 1 | D9: 2 | E9: 3 | F9: 2 | G9: 3 | H9: 4
C10: UKUPNO PRIHODI | F10: =F11+F18 -> 18359582 | G10: =G11+G18 -> 299079 | H10: =H11+H18 -> 18658661
A11: 6 | C11: Prihodi poslovanja | F11: =SUM(F12:F17) -> 18359582 | G11: =SUM(G12:G17) -> 299079 | H11: =SUM(H12:H17) -> 18658661
B12: 63 | C12: Pomoći i inozemstva i od subjekata unutar općeg proračuna | F12: 16100 | G12: 8900 | H12: =F12+G12 -> 25000
B13: 64 | C13: Prihodi od imovine | D13: 0 | E13: 0 | F13: 500 | H13: =F13+G13 -> 500
B14: 65 | C14: Prihodi od upravnih i administrativnih pristojbi, pristojbi po posebnim propisima i naknada | F14: 2000358 | G14: 0 | H14: =F14+G14 -> 2000358
B15: 66 | C15: Prihodi od prodaje proizvoda i robe te pruženih usluga i prihodi od donacija | F15: 95000 | G15: 14400 | H15: =F15+G15 -> 109400
B16: 67 | C16: Prihodi iz nadležnog proračuna i od HZZO-a temeljem ugovornih obveza | F16: 16223124 | G16: =254279 -> 254279 | H16: =F16+G16 -> 16477403
B17: 68 | C17: Kazne, upravne mjere i ostali prihodi | F17: 24500 | G17: 21500 | H17: =F17+G17 -> 46000
C18: Prihodi od prodaje nefinancijske imovine
B19: 71 | C19: Prihodi od prodaje neproizvedene dugotrajne imovine | F19: 0 | G19: 0 | H19: 0
A21: BROJČANA OZNAKA I NAZIV | D21: IZVRŠENJE 2022. | E21: TEKUĆI PLAN 2023. | F21: IZVORNI PLAN ILI REBALANS | G21: REBALANS | H21: NOVI PLAN
A22: 1 | D22: 2 | E22: 3 | F22: 2 | G22: 3 | H22: 4
C23: UKUPNO RASHODI | F23: =F24+F29 -> 18361094 | G23: =G24+G29 -> 432089 | H23: =H24+H29 -> 18793183
A24: 3 | C24: Rashodi poslovanja | F24: =SUM(F25:F28) -> 17497962 | G24: =SUM(G25:G28) -> 474448 | H24: =SUM(H25:H28) -> 17972410
B25: 31 | C25: Rashodi za zaposlene | F25: =13401960+16100 -> 13418060 | G25: -11100 | H25: =F25+G25 -> 13406960
B26: 32 | C26: Materijalni rashodi | F26: 4071407 | G26: 433538 | H26: =F26+G26 -> 4504945
B27: 34 | C27: Financijski rashodi | F27: 7500 | G27: 52000 | H27: =F27+G27 -> 59500
B28: 38 | C28: Ostali rashodi | F28: 995 | G28: 10 | H28: =F28+G28 -> 1005
A29: 4 | C29: Rashodi za nabavu nefinancijske imovine | F29: =SUM(F30:F32) -> 863132 | G29: =SUM(G30:G32) -> -42359 | H29: =SUM(H30:H32) -> 820773
B30: 41 | C30: Rashodi za nabavu neproizvedene dugotrajne imovine | F30: 1000 | G30: 500 | H30: =F30+G30 -> 1500
B31: 42 | C31: Rashodi za nabavu proizvedene dugotrajne imovine | F31: 662132 | G31: -2859 | H31: =F31+G31 -> 659273
B32: 45 | C32: Rashodi za dodatna ulaganja na nefinancijskoj imovini | F32: 200000 | G32: -40000 | H32: =F32+G32 -> 160000
A33: 5 | C33: Izdaci za financijsku imovinu i otplate zajmova | F33: =F34 -> 0 | G33: =G34 -> 0 | H33: =H34 -> 0
B34: 54 | C34: Izdaci za otplatu glavnice primljenih kredita i zajmova | G34: 0 | H34: 0

Sheet  Račun prihoda i rashoda-izvori
A4: BROJČANA OZNAKA I NAZIV | B4: IZVRŠENJE 2022. | C4: TEKUĆI PLAN 2023. | D4: IZVORNI PLAN ILI REBALANS | E4: REBALANS | F4: NOVI PLAN
A5: 1 | B5: 2 | C5: 3 | D5: 2 | E5: 3 | F5: 4
A6: UKUPNO PRIHODI | D6: =D7+D9+D11+D13+D16+D18 -> 18359582 | E6: =E7+E9+E11+E13+E16+E18 -> 299079 | F6: =F7+F9+F11+F13+F16+F18 -> 18658661
A7: 1 Opći prihodi i primici | D7: =D8 -> 878517 | E7: =E8 -> 254279 | F7: =F8 -> 1132796
A8: 11 Opći prihodi i primici | D8: 878517 | E8: 254279 | F8: =D8+E8 -> 1132796
A9: 3 Vlastiti prihodi | D9: =D10 -> 120000 | E9: =E10 -> 21500 | F9: =F10 -> 141500
A10: 31 Vlastiti prihodi | D10: 120000 | E10: 21500 | F10: =D10+E10 -> 141500
A11: 4 Prihodi za posebne namjene | D11: =D12 -> 17344607 | E11: =E12 -> 0 | F11: =F12 -> 17344607
A12: 43 ostali prihodi za posebne namjere | D12: 17344607 | E12: 0 | F12: =D12+E12 -> 17344607
A13: 5 Ostale pomoći | D13: =D14+D15 -> 16100 | E13: =E14+E15 -> 8900 | F13: =F14+F15 -> 25000
A14: 5011 Pomoći iz državnog proračuna kroz opće prihode i primitke | D14: 0 | E14: 20000 | F14: =D14+E14 -> 20000
A15: 52 Ostale pomoći | D15: 16100 | E15: -11100 | F15: =D15+E15 -> 5000
A16: 6 Donacije | D16: =D17 -> 0 | E16: =E17 -> 14400 | F16: =F17 -> 14400
A17: 61 Donacije | D17: 0 | E17: 14400 | F17: =D17+E17 -> 14400
A18: 7 Prihodi od prodaje ili zamjene nefinancijske imovine i naknade s naslova osiguranja | D18: =D19 -> 358 | E18: =E19 -> 0 | F18: =F19 -> 358
A19: 71 Prihodi od nefinancijske imovine i naknade štete s osnova osiguranja | D19: 358 | F19: =D19+E19 -> 358
A21: UKUPNO RASHODI | D21: =D22+D24+D26+D28+D31+D33 -> 18361094 | E21: =E22+E24+E26+E28+E31+E33 -> 432089 | F21: =F22+F24+F26+F28+F31+F33 -> 18793183
A22: 1 Opći prihodi i primici | D22: =D23 -> 878517 | E22: =E23 -> 254279 | F22: =F23 -> 1132796
A23: 11 Opći prihodi i primici | D23: 878517 | E23: 254279 | F23: =D23+E23 -> 1132796
A24: 3 Vlastiti prihodi | D24: =D25 -> 120000 | E24: =E25 -> 21500 | F24: =F25 -> 141500
A25: 31 Vlastiti prihodi | D25: 120000 | E25: 21500 | F25: =D25+E25 -> 141500
A26: 4 Prihodi za posebne namjene | D26: =D27 -> 17344607 | E26: =E27 -> 52010 | F26: =F27 -> 17396617
A27: 43 ostali prihodi za posebne namjere | D27: 17344607 | E27: 52010 | F27: =D27+E27 -> 17396617
A28: 5 pomoći PK | D28: =D29+D30 -> 16100 | E28: =E29+E30 -> 8900 | F28: =F29+F30 -> 25000
A29: 5011 Pomoći iz državnog proračuna kroz opće prihode i primitke | D29: 0 | E29: 20000 | F29: =D29+E29 -> 20000
A30: 52 Pomoći PK | D30: 16100 | E30: -11100 | F30: =D30+E30 -> 5000
A31: 6 Donacije | D31: =D32 -> 0 | E31: =E32 -> 14400 | F31: =F32 -> 14400
A32: 61 Donacije | D32: 0 | E32: 14400 | F32: =D32+E32 -> 14400
A33: 7 Prihodi od prodaje ili zamjene nefinancijske imovine i naknade s naslova osiguranja | D33: =D34 -> 1870 | E33: =E34 -> 81000 | F33: =F34 -> 82870
A34: 71 Prihodi od nefinancijske imovine i naknade štete s osnova osiguranja | D34: 1870 | E34: 81000 | F34: =D34+E34 -> 82870
A35: …

Sheet  Račun rashoda-funkcija
A2: A3. RASHODI PREMA FUNKCIJSKOJ KLASIFIKACIJI
A4: BROJČANA OZNAKA I NAZIV | B4: IZVRŠENJE 2022. | C4: TEKUĆI PLAN 2023. | D4: IZVORNI PLAN ILI REBALANS | E4: REBALANS | F4: NOVI PLAN
A5: 1 | B5: 2 | C5: 3 | D5: 2 | E5: 3 | F5: 4
A6: UKUPNO RASHODI | D6: =D7 -> 18361094 | E6: =E7 -> 432089 | F6: =F7 -> 18793183
A7: 01 Opće javne usluge | D7: =D8 -> 18361094 | E7: =E8 -> 432089 | F7: =F8 -> 18793183
A8: 07 Zdravstvo | D8: =D9 -> 18361094 | E8: =E9 -> 432089 | F8: =F9 -> 18793183
A9: 073 Bolničke službe | D9: =D10 -> 18361094 | E9: =E10 -> 432089 | F9: =F10 -> 18793183
A10: 0731 Usluge općih bolnica | D10: 18361094 | E10: 432089 | F10: =D10+E10 -> 18793183

Sheet Račun rashoda - poseban dio
A2: ŠIFRA | B2: OPIS | C2: PLAN 2026. | D2: TEKUĆI PLAN 2026. | E2: SMANJENJA | F2: POVEĆANJA | G2: NOVI PLAN
A3: 32481 | B3: Opća županijska bolnica Pakrac i bolnica hrvatskih veterana | C3: =SUM(C4+C15) -> 18361094 | D3: =SUM(D4+D15) -> 18361094 | E3: =SUM(E4+E15) -> 160781 | F3: =SUM(F4+F15) -> 592870 | G3: =SUM(G4+G15) -> 18793183
A4: 3602 | B4: INVESTICIJE U ZDRAVSTVENU INFRASTRUKTURU | C4: =C5 -> 741620 | D4: =D5 -> 741620 | E4: =E5 -> 149581 | F4: =F5 -> 0 | G4: =G5 -> 592039
A5: K957002 | B5: OPĆA ŽUPANIJSKA BOLNICA PAKRAC I BOLNICA HRVATSKIH VETERANA - IZRAVNA KAPITALNA ULAGANJA | C5: =C6 -> 741620 | D5: =D6 -> 741620 | E5: =E6 -> 149581 | F5: =F6 -> 0 | G5: =G6 -> 592039
A6: 11 | B6: Opći prihodi i primici | C6: =SUM(C7+C12) -> 741620 | D6: =SUM(D7+D12) -> 741620 | E6: =SUM(E7+E12) -> 149581 | F6: =SUM(F7+F12) -> 0 | G6: =SUM(G7+G12) -> 592039
A7: 42 | B7: Rashodi za nabavu proizvedene dugotrajne imovine | C7: =SUM(C8) -> 541620 | D7: =SUM(D8) -> 541620 | E7: =SUM(E8) -> 109581 | F7: =SUM(F8) -> 0 | G7: =SUM(G8) -> 432039
A8: 422 | B8: Postrojenja i oprema | C8: =SUM(C9:C11) -> 541620 | D8: =SUM(D9:D11) -> 541620 | E8: =SUM(E9:E11) -> 109581 | F8: =SUM(F9:F11) -> 0 | G8: =SUM(G9:G11) -> 432039
A9: 4221 | B9: Uredska oprema i namještaj | C9: 131620 | D9: 131620 | E9: 3325 | F9: 0 | G9: =D9-E9+F9 -> 128295
A10: 4223 | B10: Oprema za održavanje i zaštitu | C10: 33000 | D10: 33000 | E10: 8357 | F10: 0 | G10: =D10-E10+F10 -> 24643
A11: 4224 | B11: Medicinska i laboratorijska oprema | C11: 377000 | D11: 377000 | E11: 97899 | F11: 0 | G11: =D11-E11+F11 -> 279101
A12: 45 | B12: Rashodi za dodatna ulaganja na nefinancijskoj imovini | C12: =SUM(C13) -> 200000 | D12: =SUM(D13) -> 200000 | E12: =SUM(E13) -> 40000 | F12: =SUM(F13) -> 0 | G12: =SUM(G13) -> 160000
A13: 451 | B13: Dodatna ulaganja na građevinskim objektima | C13: =SUM(C14) -> 200000 | D13: =SUM(D14) -> 200000 | E13: =SUM(E14) -> 40000 | F13: =SUM(F14) -> 0 | G13: =SUM(G14) -> 160000
A14: 4511 | B14: Dodatna ulaganja na građevinskim objektima | C14: 200000 | D14: 200000 | E14: 40000 | F14: 0 | G14: =D14-E14+F14 -> 160000
A15: 3605 | B15: SIGURNOST GRAĐANA I PRAVA NA ZDRAVSTVENE USLUGE | C15: =C16+C117 -> 17619474 | D15: =D16+D117 -> 17619474 | E15: =E16+E117 -> 11200 | F15: =F16+F117 -> 592870 | G15: =G16+G117 -> 18201144
A16: A957001 | B16: ADMINISTRACIJA I UPRAVLJANJE (IZ EVIDENCIJSKIH PRIHODA) | C16: =C17+C34+C88+C92+C98+C106 -> 17482577 | D16: =D17+D34+D88+D92+D98+D106 -> 17482577 | E16: =E17+E34+E88+E92+E98+E106 -> 11200 | F16: =F17+F34+F88+F92+F98+F106 -> 189010 | G16: =G17+G34+G88+G92+G98+G106 -> 17660387
A17: 31 | B17: Vlastiti prihodi | C17: =C18+C21+C24 -> 120000 | D17: =D18+D21+D24 -> 120000 | E17: =E18+E21+E24 -> 0 | F17: =F18+F21+F24 -> 21500 | G17: =G18+G21+G24 -> 141500
A18: 32 | B18: Materijalni rashodi | C18: =C19 -> 0 | D18: =D19 -> 0 | E18: =E19 -> 0 | F18: =F19 -> 7500 | G18: =G19 -> 7500
A19: 323 | B19: Rashodi za usluge | C19: =C20 -> 0 | D19: =D20 -> 0 | E19: =E20 -> 0 | F19: =F20 -> 7500 | G19: =G20 -> 7500
A20: 3238 | B20: Računalne usluge | C20: 0 | D20: 0 | E20: 0 | F20: 7500 | G20: =D20-E20+F20 -> 7500
A21: 41 | B21: Rashodi za nabavu neproizvedene dugotrajne imovine | C21: =C22 -> 1000 | D21: =D22 -> 1000 | E21: =E22 -> 0 | F21: =F22 -> 500 | G21: =G22 -> 1500
A22: 412 | B22: Nematerijalna imovina | C22: =SUM(C23) -> 1000 | D22: =SUM(D23) -> 1000 | E22: =SUM(E23) -> 0 | F22: =SUM(F23) -> 500 | G22: =SUM(G23) -> 1500
A23: 4123 | B23: Licence | C23: 1000 | D23: 1000 | E23: 0 | F23: 500 | G23: =D23-E23+F23 -> 1500
A24: 42 | B24: Rashodi za nabavu proizvedene dugotrajne imovine | C24: =C25+C32 -> 119000 | D24: =D25+D32 -> 119000 | E24: =E25+E32 -> 0 | F24: =F25+F32 -> 13500 | G24: =G25+G32 -> 132500
A25: 422 | B25: Postrojenja i oprema | C25: =SUM(C26:C31) -> 114000 | D25: =SUM(D26:D31) -> 114000 | E25: =SUM(E26:E31) -> 0 | F25: =SUM(F26:F31) -> 13500 | G25: =SUM(G26:G31) -> 127500
A26: 4221 | B26: Uredska oprema i namještaj | C26: 84000 | D26: 84000 | E26: 0 | F26: 0 | G26: =D26-E26+F26 -> 84000
A27: 4222 | B27: Komunikacijska oprema | C27: 0 | D27: 0 | E27: 0 | F27: 0 | G27: =D27-E27+F27 -> 0
A28: 4223 | B28: Oprema za održavanje i zaštitu | C28: 5000 | D28: 5000 | E28: 0 | F28: 0 | G28: =D28-E28+F28 -> 5000
A29: 4224 | B29: Medicinska i laboratorijska oprema | C29: 15000 | D29: 15000 | E29: 0 | F29: 0 | G29: =D29-E29+F29 -> 15000
A30: 4225 | B30: Instrumenti, uređaji i strojevi | C30: 0 | D30: 0 | E30: 0 | F30: 13500 | G30: =D30-E30+F30 -> 13500
A31: 4227 | B31: Uređaji, strojevi i oprema za ostale namjene | C31: 10000 | D31: 10000 | E31: 0 | F31: 0 | G31: =D31-E31+F31 -> 10000
A32: 426 | B32: Nematerijalna proizvedena imovina | C32: =SUM(C33) -> 5000 | D32: =SUM(D33) -> 5000 | E32: =SUM(E33) -> 0 | F32: =SUM(F33) -> 0 | G32: =SUM(G33) -> 5000
A33: 4262 | B33: Ulaganja u računalne programe | C33: 5000 | D33: 5000 | E33: 0 | F33: 0 | G33: =D33-E33+F33 -> 5000
A34: 43 | B34: Ostali prihodi za posebne namjene | C34: =C35+C45+C79+C85 -> 17344607 | D34: =D35+D45+D79+D85 -> 17344607 | E34: =E35+E45+E79+E85 -> 0 | F34: =F35+F45+F79+F85 -> 52010 | G34: =G35+G45+G79+G85 -> 17396617
A35: 31 | B35: Rashodi za zaposlene | C35: =SUM(C36+C40+C42) -> 13401960 | D35: =SUM(D36+D40+D42) -> 13401960 | E35: =SUM(E36+E40+E42) -> 0 | F35: =SUM(F36+F40+F42) -> 0 | G35: =SUM(G36+G40+G42) -> 13401960
A36: 311 | B36: Plaće (Bruto) | C36: =SUM(C37:C39) -> 11643260 | D36: =SUM(D37:D39) -> 11643260 | E36: =SUM(E37:E39) -> 0 | F36: =SUM(F37:F39) -> 0 | G36: =SUM(G37:G39) -> 11643260
A37: 3111 | B37: Plaće za redovan rad | C37: 8743260 | D37: 8743260 | E37: 0 | F37: 0 | G37: =D37-E37+F37 -> 8743260
A38: 3113 | B38: Place za prekovremeni rad | C38: 1500000 | D38: 1500000 | E38: 0 | F38: 0 | G38: =D38-E38+F38 -> 1500000
A39: 3114 | B39: Plaće za posebne uvjete rada | C39: 1400000 | D39: 1400000 | E39: 0 | F39: 0 | G39: =D39-E39+F39 -> 1400000
A40: 312 | B40: Ostali rashodi za zaposlene | C40: =SUM(C41) -> 258000 | D40: =SUM(D41) -> 258000 | E40: =SUM(E41) -> 0 | F40: =SUM(F41) -> 0 | G40: =SUM(G41) -> 258000
A41: 3121 | B41: Ostali rashodi za zaposlene | C41: 258000 | D41: 258000 | E41: 0 | F41: 0 | G41: =D41-E41+F41 -> 258000
...
