Workbook

Sheet SAŽETAK
A1: PRVE IZMJENE I DOPUNE FINANCIJSKOG PLANA PRORAČUNSKOG KORISNIKA DRŽAVNOG PRORAČUNA ZA 2026.
A3: I. OPĆI DIO
A5: A. SAŽETAK RAČUNA PRIHODA I RASHODA
A7: BROJČANA OZNAKA I NAZIV | F7: IZVORNI PLAN ILI REBALANS | G7: REBALANS | H7: NOVI PLAN
A8: 1 | F8: 2 | G8: 3 | H8: 4
A9: 6 PRIHODI POSLOVANJA | F9: =' Račun prihoda i rashoda-ekonom'!F11 -> 18359582 | G9: =' Račun prihoda i rashoda-ekonom'!G11 -> 299079 | H9: =' Račun prihoda i rashoda-ekonom'!H11 -> 18658661
A10: 7 PRIHODI OD PRODAJE NEFINANCIJSKE IMOVINE | F10: =' Račun prihoda i rashoda-ekonom'!F18 -> 0 | G10: =' Račun prihoda i rashoda-ekonom'!G18 -> 0 | H10: =' Račun prihoda i rashoda-ekonom'!H18 -> 0
A11: PRIHODI UKUPNO | F11: =F9+F10 -> 18359582 | G11: =G9+G10 -> 299079 | H11: =H9+H10 -> 18658661
A12: 3 RASHODI POSLOVANJA | F12: =' Račun prihoda i rashoda-ekonom'!F24 -> 17497962 | G12: =' Račun prihoda i rashoda-ekonom'!G24 -> 474448 | H12: =' Račun prihoda i rashoda-ekonom'!H24 -> 17972410
A13: 4 RASHODI ZA NABAVU NEFINANCIJSKE IMOVINE | F13: =' Račun prihoda i rashoda-ekonom'!F29 -> 863132 | G13: =' Račun prihoda i rashoda-ekonom'!G29 -> -42359 | H13: =' Račun prihoda i rashoda-ekonom'!H29 -> 820773
A14: RASHODI UKUPNO | F14: =F12+F13 -> 18361094 | G14: =G12+G13 -> 432089 | H14: =H12+H13 -> 18793183
A15: RAZLIKA - VIŠAK / MANJAK | F15: =F11-F14 -> -1512 | G15: =G11-G14 -> -133010 | H15: =H11-H14 -> -134522
A17: B. SAŽETAK RAČUNA FINANCIRANJA
A19: BROJČANA OZNAKA I NAZIV | F19: IZVORNI PLAN ILI REBALANS | G19: REBALANS | H19: NOVI PLAN
A20: 1 | F20: 2 | G20: 3 | H20: 4
A21: 8 PRIMICI OD FINANCIJSKE IMOVINE I ZADUŽIVANJA | F21: 0 | G21: 0 | H21: 0
A22: 5 IZDACI ZA FINANCIJSKU IMOVINU I OTPLATE ZAJMOVA | F22: 0 | G22: 0 | H22: 0
A23: RAZLIKA PRIMITAKA I IZDATAKA | F23: =F21-F22 -> 0 | G23: =G21-G22 -> 0 | H23: =H21-H22 -> 0
A24: PRIJENOS SREDSTAVA IZ PRETHODNE GODINE | F24: 1512 | G24: 169310 | H24: =F24+G24 -> 170822
A25: PRIJENOS SREDSTAVA U SLJEDEĆE RAZDOBLJE | F25: 0 | G25: 36300 | H25: =F25+G25 -> 36300
A26: NETO FINANCIRANJE | F26: =F23+F24-F25 -> 1512 | G26: =G23+G24-G25 -> 133010 | H26: =H23+H24-H25 -> 134522
A27: VIŠAK / MANJAK + NETO FINANCIRANJE | F27: =F15+F26 -> 0 | G27: =G15+G26 -> 0 | H27: =H15+H26 -> 0

Sheet  Račun prihoda i rashoda-ekonom
A2: I. OPĆI DIO
A4: A. RAČUN PRIHODA I RASHODA
A6: A1. PRIHODI I RASHODI PREMA EKONOMSKOJ KLASIFIKACIJI
A8: BROJČANA OZNAKA I NAZIV | D8: IZVRŠENJE 2022. | E8: TEKUĆI PLAN 2023. | F8: IZVORNI PLAN ILI REBALANS | G8: REBALANS | H8: NOVI PLAN
A9: 1 | D9: 2 | E9: 3 | F9: 2 | G9: 3 | H9: 4
C10: UKUPNO PRIHODI | F10: =F11+F18 -> 18359582 | G10: =G11+G18 -> 299079 | H10: =H11+H18 -> 18658661
A11: 6 | C11: Prihodi poslovanja | F11: =SUM(F12:F17) -> 18359582 | G11: =SUM(G12:G17) -> 299079 | H11: =SUM(H12:H17) -> 18658661
B12: 63 | C12: Pomoći i inozemstva i od subjekata unutar općeg proračuna | F12: 16100 | G12: 8900 | H12: =F12+G12 -> 25000
B13: 64 | C13: Prihodi od imovine | D13: 0 | E13: 0 | F13: 500 | H13: =F13+G13 -> 500
B14: 65 | C14: Prihodi od upravnih i administrativnih pristojbi, pristojbi po posebnim propisima i naknada | F14: 2000358 | G14: 0 | H14: =F14+G14 -> 2000358
B15: 66 | C15: Prihodi od prodaje proizvoda i robe te pruženih usluga i prihodi od donacija | F15: 95000 | G15: 14400 | H15: =F15+G15 -> 109400
B16: 67 | C16: Prihodi iz nadležnog proračuna i od HZZO-a temeljem ugovornih obveza | F16: 16223124 | G16: =254279 -> 254279 | H16: =F16+G16 -> 16477403
B17: 68 | C17: Kazne, upravne mjere i ostali prihodi | F17: 24500 | G17: 21500 | H17: =F17+G17 -> 46000
C18: Prihodi od prodaje nefinancijske imovine
B19: 71 | C19: Prihodi od prodaje neproizvedene dugotrajne imovine | F19: 0 | G19: 0 | H19: 0
A21: BROJČANA OZNAKA I NAZIV | D21: IZVRŠENJE 2022. | E21: TEKUĆI PLAN 2023. | F21: IZVORNI PLAN ILI REBALANS | G21: REBALANS | H21: NOVI PLAN
A22: 1 | D22: 2 | E22: 3 | F22: 2 | G22: 3 | H22: 4
C23: UKUPNO RASHODI | F23: =F24+F29 -> 18361094 | G23: =G24+G29 -> 432089 | H23: =H24+H29 -> 18793183
A24: 3 | C24: Rashodi poslovanja | F24: =SUM(F25:F28) -> 17497962 | G24: =SUM(G25:G28) -> 474448 | H24: =SUM(H25:H28) -> 17972410
B25: 31 | C25: Rashodi za zaposlene | F25: =13401960+16100 -> 13418060 | G25: -11100 | H25: =F25+G25 -> 13406960
B26: 32 | C26: Materijalni rashodi | F26: 4071407 | G26: 433538 | H26: =F26+G26 -> 4504945
B27: 34 | C27: Financijski rashodi | F27: 7500 | G27: 52000 | H27: =F27+G27 -> 59500
B28: 38 | C28: Ostali rashodi | F28: 995 | G28: 10 | H28: =F28+G28 -> 1005
A29: 4 | C29: Rashodi za nabavu nefinancijske imovine | F29: =SUM(F30:F32) -> 863132 | G29: =SUM(G30:G32) -> -42359 | H29: =SUM(H30:H32) -> 820773
B30: 41 | C30: Rashodi za nabavu neproizvedene dugotrajne imovine | F30: 1000 | G30: 500 | H30: =F30+G30 -> 1500
B31: 42 | C31: Rashodi za nabavu proizvedene dugotrajne imovine | F31: 662132 | G31: -2859 | H31: =F31+G31 -> 659273
B32: 45 | C32: Rashodi za dodatna ulaganja na nefinancijskoj imovini | F32: 200000 | G32: -40000 | H32: =F32+G32 -> 160000
A33: 5 | C33: Izdaci za financijsku imovinu i otplate zajmova | F33: =F34 -> 0 | G33: =G34 -> 0 | H33: =H34 -> 0
B34: 54 | C34: Izdaci za otplatu glavnice primljenih kredita i zajmova | G34: 0 | H34: 0

Sheet  Račun prihoda i rashoda-izvori
A4: BROJČANA OZNAKA I NAZIV | B4: IZVRŠENJE 2022. | C4: TEKUĆI PLAN 2023. | D4: IZVORNI PLAN ILI REBALANS | E4: REBALANS | F4: NOVI PLAN
A5: 1 | B5: 2 | C5: 3 | D5: 2 | E5: 3 | F5: 4
A6: UKUPNO PRIHODI | D6: =D7+D9+D11+D13+D16+D18 -> 18359582 | E6: =E7+E9+E11+E13+E16+E18 -> 299079 | F6: =F7+F9+F11+F13+F16+F18 -> 18658661
A7: 1 Opći prihodi i primici | D7: =D8 -> 878517 | E7: =E8 -> 254279 | F7: =F8 -> 1132796
A8: 11 Opći prihodi i primici | D8: 878517 | E8: 254279 | F8: =D8+E8 -> 1132796
A9: 3 Vlastiti prihodi | D9: =D10 -> 120000 | E9: =E10 -> 21500 | F9: =F10 -> 141500
A10: 31 Vlastiti prihodi | D10: 120000 | E10: 21500 | F10: =D10+E10 -> 141500
A11: 4 Prihodi za posebne namjene | D11: =D12 -> 17344607 | E11: =E12 -> 0 | F11: =F12 -> 17344607
A12: 43 ostali prihodi za posebne namjere | D12: 17344607 | E12: 0 | F12: =D12+E12 -> 17344607
A13: 5 Ostale pomoći | D13: =D14+D15 -> 16100 | E13: =E14+E15 -> 8900 | F13: =F14+F15 -> 25000
A14: 5011 Pomoći iz državnog proračuna kroz opće prihode i primitke | D14: 0 | E14: 20000 | F14: =D14+E14 -> 20000
A15: 52 Ostale pomoći | D15: 16100 | E15: -11100 | F15: =D15+E15 -> 5000
A16: 6 Donacije | D16: =D17 -> 0 | E16: =E17 -> 14400 | F16: =F17 -> 14400
A17: 61 Donacije | D17: 0 | E17: 14400 | F17: =D17+E17 -> 14400
A18: 7 Prihodi od prodaje ili zamjene nefinancijske imovine i naknade s naslova osiguranja | D18: =D19 -> 358 | E18: =E19 -> 0 | F18: =F19 -> 358
A19: 71 Prihodi od nefinancijske imovine i naknade štete s osnova osiguranja | D19: 358 | F19: =D19+E19 -> 358
A21: UKUPNO RASHODI | D21: =D22+D24+D26+D28+D31+D33 -> 18361094 | E21: =E22+E24+E26+E28+E31+E33 -> 432089 | F21: =F22+F24+F26+F28+F31+F33 -> 18793183
A22: 1 Opći prihodi i primici | D22: =D23 -> 878517 | E22: =E23 -> 254279 | F22: =F23 -> 1132796
A23: 11 Opći prihodi i primici | D23: 878517 | E23: 254279 | F23: =D23+E23 -> 1132796
A24: 3 Vlastiti prihodi | D24: =D25 -> 120000 | E24: =E25 -> 21500 | F24: =F25 -> 141500
A25: 31 Vlastiti prihodi | D25: 120000 | E25: 21500 | F25: =D25+E25 -> 141500
A26: 4 Prihodi za posebne namjene | D26: =D27 -> 17344607 | E26: =E27 -> 52010 | F26: =F27 -> 17396617
A27: 43 ostali prihodi za posebne namjere | D27: 17344607 | E27: 52010 | F27: =D27+E27 -> 17396617
A28: 5 pomoći PK | D28: =D29+D30 -> 16100 | E28: =E29+E30 -> 8900 | F28: =F29+F30 -> 25000
A29: 5011 Pomoći iz državnog proračuna kroz opće prihode i primitke | D29: 0 | E29: 20000 | F29: =D29+E29 -> 20000
A30: 52 Pomoći PK | D30: 16100 | E30: -11100 | F30: =D30+E30 -> 5000
A31: 6 Donacije | D31: =D32 -> 0 | E31: =E32 -> 14400 | F31: =F32 -> 14400
A32: 61 Donacije | D32: 0 | E32: 14400 | F32: =D32+E32 -> 14400
A33: 7 Prihodi od prodaje ili zamjene nefinancijske imovine i naknade s naslova osiguranja | D33: =D34 -> 1870 | E33: =E34 -> 81000 | F33: =F34 -> 82870
A34: 71 Prihodi od nefinancijske imovine i naknade štete s osnova osiguranja | D34: 1870 | E34: 81000 | F34: =D34+E34 -> 82870
A35: …

Sheet  Račun rashoda-funkcija
A2: A3. RASHODI PREMA FUNKCIJSKOJ KLASIFIKACIJI
A4: BROJČANA OZNAKA I NAZIV | B4: IZVRŠENJE 2022. | C4: TEKUĆI PLAN 2023. | D4: IZVORNI PLAN ILI REBALANS | E4: REBALANS | F4: NOVI PLAN
A5: 1 | B5: 2 | C5: 3 | D5: 2 | E5: 3 | F5: 4
A6: UKUPNO RASHODI | D6: =D7 -> 18361094 | E6: =E7 -> 432089 | F6: =F7 -> 18793183
A7: 01 Opće javne usluge | D7: =D8 -> 18361094 | E7: =E8 -> 432089 | F7: =F8 -> 18793183
A8: 07 Zdravstvo | D8: =D9 -> 18361094 | E8: =E9 -> 432089 | F8: =F9 -> 18793183
A9: 073 Bolničke službe | D9: =D10 -> 18361094 | E9: =E10 -> 432089 | F9: =F10 -> 18793183
A10: 0731 Usluge općih bolnica | D10: 18361094 | E10: 432089 | F10: =D10+E10 -> 18793183

Sheet Račun rashoda - poseban dio
A2: ŠIFRA | B2: OPIS | C2: PLAN 2026. | D2: TEKUĆI PLAN 2026. | E2: SMANJENJA | F2: POVEĆANJA | G2: NOVI PLAN
A3: 32481 | B3: Opća županijska bolnica Pakrac i bolnica hrvatskih veterana | C3: =SUM(C4+C15) -> 18361094 | D3: =SUM(D4+D15) -> 18361094 | E3: =SUM(E4+E15) -> 160781 | F3: =SUM(F4+F15) -> 592870 | G3: =SUM(G4+G15) -> 18793183
A4: 3602 | B4: INVESTICIJE U ZDRAVSTVENU INFRASTRUKTURU | C4: =C5 -> 741620 | D4: =D5 -> 741620 | E4: =E5 -> 149581 | F4: =F5 -> 0 | G4: =G5 -> 592039
A5: K957002 | B5: OPĆA ŽUPANIJSKA BOLNICA PAKRAC I BOLNICA HRVATSKIH VETERANA - IZRAVNA KAPITALNA ULAGANJA | C5: =C6 -> 741620 | D5: =D6 -> 741620 | E5: =E6 -> 149581 | F5: =F6 -> 0 | G5: =G6 -> 592039
A6: 11 | B6: Opći prihodi i primici | C6: =SUM(C7+C12) -> 741620 | D6: =SUM(D7+D12) -> 741620 | E6: =SUM(E7+E12) -> 149581 | F6: =SUM(F7+F12) -> 0 | G6: =SUM(G7+G12) -> 592039
A7: 42 | B7: Rashodi za nabavu proizvedene dugotrajne imovine | C7: =SUM(C8) -> 541620 | D7: =SUM(D8) -> 541620 | E7: =SUM(E8) -> 109581 | F7: =SUM(F8) -> 0 | G7: =SUM(G8) -> 432039
A8: 422 | B8: Postrojenja i oprema | C8: =SUM(C9:C11) -> 541620 | D8: =SUM(D9:D11) -> 541620 | E8: =SUM(E9:E11) -> 109581 | F8: =SUM(F9:F11) -> 0 | G8: =SUM(G9:G11) -> 432039
A9: 4221 | B9: Uredska oprema i namještaj | C9: 131620 | D9: 131620 | E9: 3325 | F9: 0 | G9: =D9-E9+F9 -> 128295
A10: 4223 | B10: Oprema za održavanje i zaštitu | C10: 33000 | D10: 33000 | E10: 8357 | F10: 0 | G10: =D10-E10+F10 -> 24643
A11: 4224 | B11: Medicinska i laboratorijska oprema | C11: 377000 | D11: 377000 | E11: 97899 | F11: 0 | G11: =D11-E11+F11 -> 279101
A12: 45 | B12: Rashodi za dodatna ulaganja na nefinancijskoj imovini | C12: =SUM(C13) -> 200000 | D12: =SUM(D13) -> 200000 | E12: =SUM(E13) -> 40000 | F12: =SUM(F13) -> 0 | G12: =SUM(G13) -> 160000
A13: 451 | B13: Dodatna ulaganja na građevinskim objektima | C13: =SUM(C14) -> 200000 | D13: =SUM(D14) -> 200000 | E13: =SUM(E14) -> 40000 | F13: =SUM(F14) -> 0 | G13: =SUM(G14) -> 160000
A14: 4511 | B14: Dodatna ulaganja na građevinskim objektima | C14: 200000 | D14: 200000 | E14: 40000 | F14: 0 | G14: =D14-E14+F14 -> 160000
A15: 3605 | B15: SIGURNOST GRAĐANA I PRAVA NA ZDRAVSTVENE USLUGE | C15: =C16+C117 -> 17619474 | D15: =D16+D117 -> 17619474 | E15: =E16+E117 -> 11200 | F15: =F16+F117 -> 592870 | G15: =G16+G117 -> 18201144
A16: A957001 | B16: ADMINISTRACIJA I UPRAVLJANJE (IZ EVIDENCIJSKIH PRIHODA) | C16: =C17+C34+C88+C92+C98+C106 -> 17482577 | D16: =D17+D34+D88+D92+D98+D106 -> 17482577 | E16: =E17+E34+E88+E92+E98+E106 -> 11200 | F16: =F17+F34+F88+F92+F98+F106 -> 189010 | G16: =G17+G34+G88+G92+G98+G106 -> 17660387
A17: 31 | B17: Vlastiti prihodi | C17: =C18+C21+C24 -> 120000 | D17: =D18+D21+D24 -> 120000 | E17: =E18+E21+E24 -> 0 | F17: =F18+F21+F24 -> 21500 | G17: =G18+G21+G24 -> 141500
A18: 32 | B18: Materijalni rashodi | C18: =C19 -> 0 | D18: =D19 -> 0 | E18: =E19 -> 0 | F18: =F19 -> 7500 | G18: =G19 -> 7500
A19: 323 | B19: Rashodi za usluge | C19: =C20 -> 0 | D19: =D20 -> 0 | E19: =E20 -> 0 | F19: =F20 -> 7500 | G19: =G20 -> 7500
A20: 3238 | B20: Računalne usluge | C20: 0 | D20: 0 | E20: 0 | F20: 7500 | G20: =D20-E20+F20 -> 7500
A21: 41 | B21: Rashodi za nabavu neproizvedene dugotrajne imovine | C21: =C22 -> 1000 | D21: =D22 -> 1000 | E21: =E22 -> 0 | F21: =F22 -> 500 | G21: =G22 -> 1500
A22: 412 | B22: Nematerijalna imovina | C22: =SUM(C23) -> 1000 | D22: =SUM(D23) -> 1000 | E22: =SUM(E23) -> 0 | F22: =SUM(F23) -> 500 | G22: =SUM(G23) -> 1500
A23: 4123 | B23: Licence | C23: 1000 | D23: 1000 | E23: 0 | F23: 500 | G23: =D23-E23+F23 -> 1500
A24: 42 | B24: Rashodi za nabavu proizvedene dugotrajne imovine | C24: =C25+C32 -> 119000 | D24: =D25+D32 -> 119000 | E24: =E25+E32 -> 0 | F24: =F25+F32 -> 13500 | G24: =G25+G32 -> 132500
A25: 422 | B25: Postrojenja i oprema | C25: =SUM(C26:C31) -> 114000 | D25: =SUM(D26:D31) -> 114000 | E25: =SUM(E26:E31) -> 0 | F25: =SUM(F26:F31) -> 13500 | G25: =SUM(G26:G31) -> 127500
A26: 4221 | B26: Uredska oprema i namještaj | C26: 84000 | D26: 84000 | E26: 0 | F26: 0 | G26: =D26-E26+F26 -> 84000
A27: 4222 | B27: Komunikacijska oprema | C27: 0 | D27: 0 | E27: 0 | F27: 0 | G27: =D27-E27+F27 -> 0
A28: 4223 | B28: Oprema za održavanje i zaštitu | C28: 5000 | D28: 5000 | E28: 0 | F28: 0 | G28: =D28-E28+F28 -> 5000
A29: 4224 | B29: Medicinska i laboratorijska oprema | C29: 15000 | D29: 15000 | E29: 0 | F29: 0 | G29: =D29-E29+F29 -> 15000
A30: 4225 | B30: Instrumenti, uređaji i strojevi | C30: 0 | D30: 0 | E30: 0 | F30: 13500 | G30: =D30-E30+F30 -> 13500
A31: 4227 | B31: Uređaji, strojevi i oprema za ostale namjene | C31: 10000 | D31: 10000 | E31: 0 | F31: 0 | G31: =D31-E31+F31 -> 10000
A32: 426 | B32: Nematerijalna proizvedena imovina | C32: =SUM(C33) -> 5000 | D32: =SUM(D33) -> 5000 | E32: =SUM(E33) -> 0 | F32: =SUM(F33) -> 0 | G32: =SUM(G33) -> 5000
A33: 4262 | B33: Ulaganja u računalne programe | C33: 5000 | D33: 5000 | E33: 0 | F33: 0 | G33: =D33-E33+F33 -> 5000
A34: 43 | B34: Ostali prihodi za posebne namjene | C34: =C35+C45+C79+C85 -> 17344607 | D34: =D35+D45+D79+D85 -> 17344607 | E34: =E35+E45+E79+E85 -> 0 | F34: =F35+F45+F79+F85 -> 52010 | G34: =G35+G45+G79+G85 -> 17396617
A35: 31 | B35: Rashodi za zaposlene | C35: =SUM(C36+C40+C42) -> 13401960 | D35: =SUM(D36+D40+D42) -> 13401960 | E35: =SUM(E36+E40+E42) -> 0 | F35: =SUM(F36+F40+F42) -> 0 | G35: =SUM(G36+G40+G42) -> 13401960
A36: 311 | B36: Plaće (Bruto) | C36: =SUM(C37:C39) -> 11643260 | D36: =SUM(D37:D39) -> 11643260 | E36: =SUM(E37:E39) -> 0 | F36: =SUM(F37:F39) -> 0 | G36: =SUM(G37:G39) -> 11643260
A37: 3111 | B37: Plaće za redovan rad | C37: 8743260 | D37: 8743260 | E37: 0 | F37: 0 | G37: =D37-E37+F37 -> 8743260
A38: 3113 | B38: Place za prekovremeni rad | C38: 1500000 | D38: 1500000 | E38: 0 | F38: 0 | G38: =D38-E38+F38 -> 1500000
A39: 3114 | B39: Plaće za posebne uvjete rada | C39: 1400000 | D39: 1400000 | E39: 0 | F39: 0 | G39: =D39-E39+F39 -> 1400000
A40: 312 | B40: Ostali rashodi za zaposlene | C40: =SUM(C41) -> 258000 | D40: =SUM(D41) -> 258000 | E40: =SUM(E41) -> 0 | F40: =SUM(F41) -> 0 | G40: =SUM(G41) -> 258000
A41: 3121 | B41: Ostali rashodi za zaposlene | C41: 258000 | D41: 258000 | E41: 0 | F41: 0 | G41: =D41-E41+F41 -> 258000
A42: 313 | B42: Doprinosi na plaće | C42: =SUM(C43:C44) -> 1500700 | D42: =SUM(D43:D44) -> 1500700 | E42: =SUM(E43:E44) -> 0 | F42: =SUM(F43:F44) -> 0 | G42: =SUM(G43:G44) -> 1500700
A43: 3132 | B43: Doprinosi za obvezno zdravstveno osiguranje | C43: 1500000 | D43: 1500000 | E43: 0 | F43: 0 | G43: =D43-E43+F43 -> 1500000
A44: 3133 | B44: Doprinosi za obvezno osiguranje u slučaju nezaposlenosti | C44: 700 | D44: 700 | E44: 0 | F44: 0 | G44: =D44-E44+F44 -> 700
A45: 32 | B45: Materijalni rashodi | C45: =C46+C51+C58+C68+C71 -> 3934510 | D45: =D46+D51+D58+D68+D71 -> 3934510 | E45: =E46+E51+E58+E68+E71 -> 0 | F45: =F46+F51+F58+F68+F71 -> 0 | G45: =G46+G51+G58+G68+G71 -> 3934510
A46: 321 | B46: Naknade troškova zaposlenima | C46: =SUM(C47:C50) -> 228650 | D46: =SUM(D47:D50) -> 228650 | E46: =SUM(E47:E50) -> 0 | F46: =SUM(F47:F50) -> 0 | G46: =SUM(G47:G50) -> 228650
A47: 3211 | B47: Službena putovanja | C47: 4550 | D47: 4550 | E47: 0 | F47: 0 | G47: =D47-E47+F47 -> 4550
A48: 3212 | B48: Naknade za prijevoz, za rad na terenu i odvojeni život | C48: 210000 | D48: 210000 | E48: 0 | F48: 0 | G48: =D48-E48+F48 -> 210000
A49: 3213 | B49: Stručno usavršavanje zaposlenika | C49: 14000 | D49: 14000 | E49: 0 | F49: 0 | G49: =D49-E49+F49 -> 14000
A50: 3214 | B50: Ostale naknade troškova zaposlenima | C50: 100 | D50: 100 | E50: 0 | F50: 0 | G50: =D50-E50+F50 -> 100
A51: 322 | B51: Rashodi za materijal i energiju | C51: =SUM(C52:C57) -> 646300 | D51: =SUM(D52:D57) -> 646300 | E51: =SUM(E52:E57) -> 0 | F51: =SUM(F52:F57) -> 0 | G51: =SUM(G52:G57) -> 646300
A52: 3221 | B52: Uredski materijal i ostali materijalni rashodi | C52: 89300 | D52: 89300 | E52: 0 | F52: 0 | G52: =D52-E52+F52 -> 89300
A53: 3222 | B53: Materijal i sirovine | C53: 160000 | D53: 160000 | E53: 0 | F53: 0 | G53: =D53-E53+F53 -> 160000
A54: 3223 | B54: Energija | C54: 300000 | D54: 300000 | E54: 0 | F54: 0 | G54: =D54-E54+F54 -> 300000
A55: 3224 | B55: Materijal i dijelovi za tekuće i investicijsko održavanje | C55: 55000 | D55: 55000 | E55: 0 | F55: 0 | G55: =D55-E55+F55 -> 55000
A56: 3225 | B56: Sitni inventar i auto gume | C56: 22000 | D56: 22000 | E56: 0 | F56: 0 | G56: =D56-E56+F56 -> 22000
A57: 3227 | B57: Službena , radna i zaštitna odjeća i obuča | C57: 20000 | D57: 20000 | E57: 0 | F57: 0 | G57: =D57-E57+F57 -> 20000
A58: 323 | B58: Rashodi za usluge | C58: =SUM(C59:C67) -> 1225800 | D58: =SUM(D59:D67) -> 1225800 | E58: =SUM(E59:E67) -> 0 | F58: =SUM(F59:F67) -> 0 | G58: =SUM(G59:G67) -> 1225800
A59: 3231 | B59: Usluge telefona, pošte i prijevoza | C59: 22000 | D59: 22000 | E59: 0 | F59: 0 | G59: =D59-E59+F59 -> 22000
A60: 3232 | B60: Usluge tekućeg i investicijskog održavanja | C60: 212300 | D60: 212300 | E60: 0 | F60: 0 | G60: =D60-E60+F60 -> 212300
A61: 3233 | B61: Usluge promidžbe i informiranja | C61: 5000 | D61: 5000 | E61: 0 | F61: 0 | G61: =D61-E61+F61 -> 5000
A62: 3234 | B62: Komunalne usluge | C62: 175800 | D62: 175800 | E62: 0 | F62: 0 | G62: =D62-E62+F62 -> 175800
A63: 3235 | B63: Zakupnine i najamnine | C63: 20000 | D63: 20000 | E63: 0 | F63: 0 | G63: =D63-E63+F63 -> 20000
A64: 3236 | B64: Zdravstvene i veterinarske usluge | C64: 39000 | D64: 39000 | E64: 0 | F64: 0 | G64: =D64-E64+F64 -> 39000
A65: 3237 | B65: Intelektualne i osobne usluge | C65: 456000 | D65: 456000 | E65: 0 | F65: 0 | G65: =D65-E65+F65 -> 456000
A66: 3238 | B66: Računalne usluge | C66: 230000 | D66: 230000 | E66: 0 | F66: 0 | G66: =D66-E66+F66 -> 230000
A67: 3239 | B67: Ostale usluge | C67: 65700 | D67: 65700 | E67: 0 | F67: 0 | G67: =D67-E67+F67 -> 65700
A68: 325 | B68: Rashodi lijekova i potrošnog medicinskog materijala kod zdravstvenih ustanova | C68: =C69+C70 -> 1801000 | D68: =D69+D70 -> 1801000 | E68: =E69+E70 -> 0 | F68: =F69+F70 -> 0 | G68: =G69+G70 -> 1801000
A69: 3251 | B69: Rashodi po osnovi utroška lijekova i potrošnog medicinskog materijala | C69: 1800000 | D69: 1800000 | E69: 0 | F69: 0 | G69: =D69-E69+F69 -> 1800000
A70: 3252 | B70: Rashodi po osnovi otpisa lijekova i potrošnog medicinskog materijala | C70: 1000 | D70: 1000 | E70: 0 | F70: 0 | G70: =D70-E70+F70 -> 1000
A71: 329 | B71: Ostali nespomenuti rashodi poslovanja | C71: =SUM(C72:C78) -> 32760 | D71: =SUM(D72:D78) -> 32760 | E71: =SUM(E72:E78) -> 0 | F71: =SUM(F72:F78) -> 0 | G71: =SUM(G72:G78) -> 32760
A72: 3291 | B72: Naknade za rad predstavničkih i izvršnih tijela, povjerenstava i slično | C72: 13000 | D72: 13000 | E72: 0 | F72: 0 | G72: =D72-E72+F72 -> 13000
A73: 3292 | B73: Premije osiguranja | C73: 1000 | D73: 1000 | E73: 0 | F73: 0 | G73: =D73-E73+F73 -> 1000
A74: 3293 | B74: Reprezentacija | C74: 100 | D74: 100 | E74: 0 | F74: 0 | G74: =D74-E74+F74 -> 100
A75: 3294 | B75: Članarine i norme | C75: 3000 | D75: 3000 | E75: 0 | F75: 0 | G75: =D75-E75+F75 -> 3000
A76: 3295 | B76: Pristojbe i naknade | C76: 13650 | D76: 13650 | E76: 0 | F76: 0 | G76: =D76-E76+F76 -> 13650
A77: 3296 | B77: Troškovi sudskih postupaka | C77: 2000 | D77: 2000 | E77: 0 | F77: 0 | G77: =D77-E77+F77 -> 2000
A78: 3299 | B78: Ostali nespomenuti rashodi poslovanja | C78: 10 | D78: 10 | E78: 0 | F78: 0 | G78: =D78-E78+F78 -> 10
A79: 34 | B79: Financijski rashodi | C79: =C80 -> 7500 | D79: =D80 -> 7500 | E79: =E80 -> 0 | F79: =F80 -> 52000 | G79: =G80 -> 59500
A80: 343 | B80: Ostali financijski rashodi | C80: =SUM(C81:C84) -> 7500 | D80: =SUM(D81:D84) -> 7500 | E80: =SUM(E81:E84) -> 0 | F80: =SUM(F81:F84) -> 52000 | G80: =SUM(G81:G84) -> 59500
A81: 3431 | B81: Bankarske usluge i usluge platnog prometa | C81: 6500 | D81: 6500 | E81: 0 | F81: 0 | G81: =D81-E81+F81 -> 6500
A82: 3432 | B82: Negativne tečajne razlike i razlike zbog primjene valutne klauzule | C82: 0 | D82: 0 | E82: 0 | F82: 0 | G82: =D82-E82+F82 -> 0
A83: 3433 | B83: Zatezne kamate | C83: 1000 | D83: 1000 | E83: 0 | F83: 52000 | G83: =D83-E83+F83 -> 53000
A84: 3434 | B84: Ostali nespomenuti financijski rashodi | C84: 0 | D84: 0 | E84: 0 | F84: 0 | G84: =D84-E84+F84 -> 0
A85: 38 | B85: Ostali rashodi | C85: =SUM(C86) -> 637 | D85: =SUM(D86) -> 637 | E85: =SUM(E86) -> 0 | F85: =SUM(F86) -> 10 | G85: =SUM(G86) -> 647
A86: 383 | B86: Kazne, penali i naknade štete | C86: =SUM(C87) -> 637 | D86: =SUM(D87) -> 637 | E86: =SUM(E87) -> 0 | F86: =SUM(F87) -> 10 | G86: =SUM(G87) -> 647
A87: 3834 | B87: Ugovorene kazne i ostale naknade šteta | C87: 637 | D87: 637 | E87: 0 | F87: 10 | G87: =D87-E87+F87 -> 647
A88: 5011 | B88: Pomoći iz državnog proračuna kroz opće prihode i primitke | C88: =C89 -> 0 | D88: =D89 -> 0 | E88: =E89 -> 0 | F88: =F89 -> 20000 | G88: =G89 -> 20000
A89: 32 | B89: Materijalni rashodi | C89: =C90 -> 0 | D89: =D90 -> 0 | E89: =E90 -> 0 | F89: =F90 -> 20000 | G89: =G90 -> 20000
A90: 323 | B90: Rashodi za usluge | C90: =C91 -> 0 | D90: =D91 -> 0 | E90: =E91 -> 0 | F90: =F91 -> 20000 | G90: =G91 -> 20000
A91: 3238 | B91: Računalne usluge | C91: 0 | D91: 0 | E91: 0 | F91: 20000 | G91: =D91-E91+F91 -> 20000
A92: 52 | B92: Ostale pomoći | C92: =C93 -> 16100 | D92: =D93 -> 16100 | E92: =E93 -> 11200 | F92: =F93 -> 100 | G92: =G93 -> 5000
A93: 31 | B93: Rashodi za zaposlene | C93: =C94+C96 -> 16100 | D93: =D94+D96 -> 16100 | E93: =E94+E96 -> 11200 | F93: =F94+F96 -> 100 | G93: =G94+G96 -> 5000
A94: 311 | B94: Plaće (Bruto) | C94: =SUM(C95:C95) -> 16100 | D94: =SUM(D95:D95) -> 16100 | E94: =SUM(E95:E95) -> 11200 | F94: =SUM(F95:F95) -> 0 | G94: =SUM(G95:G95) -> 4900
A95: 3111 | B95: Plaće za redovan rad | C95: 16100 | D95: 16100 | E95: 11200 | F95: 0 | G95: =D95-E95+F95 -> 4900
A96: 313 | B96: Doprinosi na plaće | C96: =SUM(C97) -> 0 | D96: =SUM(D97) -> 0 | E96: =SUM(E97) -> 0 | F96: =SUM(F97) -> 100 | G96: =D96-E96+F96 -> 100
A97: 3132 | B97: Doprinosi za obvezno zdravstveno osiguranje | C97: 0 | D97: 0 | E97: 0 | F97: 100 | G97: =D97-E97+F97 -> 100
A98: 61 | B98: Donacije | C98: =C99+C102 -> 0 | D98: =D99+D102 -> 0 | E98: =E99+E102 -> 0 | F98: =F99+F102 -> 14400 | G98: =G99+G102 -> 14400
A99: 32 | B99: Materijalni rashodi | C99: =C100 -> 0 | D99: =D100 -> 0 | E99: =E100 -> 0 | F99: =F100 -> 2178 | G99: =G100 -> 2178
A100: 321 | B100: Naknade troškova zaposlenima | C100: =C101 -> 0 | D100: =D101 -> 0 | E100: =E101 -> 0 | F100: =F101 -> 2178 | G100: =G101 -> 2178
A101: 3213 | B101: Stručno usavršavanje zaposlenika | C101: 0 | D101: 0 | E101: 0 | F101: 2178 | G101: =D101-E101+F101 -> 2178
...
