Workbook

Sheet SAŽETAK
A1: FINANCIJSKI PLAN PRORAČUNSKOG KORISNIKA DRŽAVNOG PRORAČUNA ZA 2027. I PROJEKCIJE ZA 2028. I 2029. GODINU
A3: I. OPĆI DIO
A5: A. SAŽETAK RAČUNA PRIHODA I RASHODA
A7: BROJČANA OZNAKA I NAZIV | F7: IZVRŠENJE 2025. | G7: TEKUĆI PLAN 2026. | H7: PLAN ZA 2027. | I7: PROJEKCIJA ZA 2028. | J7: PROJEKCIJA ZA 2029.
A8: 1 | F8: 2 | G8: 3 | H8: 4 | I8: 5 | J8: 6
A9: 6 PRIHODI POSLOVANJA | F9: 15550446 | G9: 18658661 | H9: =' Račun prihoda i rashoda-ekonom'!F11 -> 19184262 | I9: =' Račun prihoda i rashoda-ekonom'!G11 -> 20108162 | J9: =' Račun prihoda i rashoda-ekonom'!H11 -> 21021829
A10: 7 PRIHODI OD PRODAJE NEFINANCIJSKE IMOVINE | F10: 0 | G10: 0 | H10: =' Račun prihoda i rashoda-ekonom'!F18 -> 0 | I10: =' Račun prihoda i rashoda-ekonom'!G18 -> 0 | J10: =' Račun prihoda i rashoda-ekonom'!H18 -> 0
A11: PRIHODI UKUPNO | F11: =F9+F10 -> 15550446 | G11: =G9+G10 -> 18658661 | H11: =H9+H10 -> 19184262 | I11: =I9+I10 -> 20108162 | J11: =J9+J10 -> 21021829
A12: 3 RASHODI POSLOVANJA | F12: 16318613 | G12: 17972410 | H12: =' Račun prihoda i rashoda-ekonom'!F24 -> 18372328 | I12: =' Račun prihoda i rashoda-ekonom'!G24 -> 19296228 | J12: =' Račun prihoda i rashoda-ekonom'!H24 -> 20209895
A13: 4 RASHODI ZA NABAVU NEFINANCIJSKE IMOVINE | F13: 816112 | G13: 820773 | H13: =' Račun prihoda i rashoda-ekonom'!F29 -> 888895 | I13: =' Račun prihoda i rashoda-ekonom'!G29 -> 811934 | J13: =' Račun prihoda i rashoda-ekonom'!H29 -> 811934
A14: RASHODI UKUPNO | F14: =F12+F13 -> 17134725 | G14: =G12+G13 -> 18793183 | H14: =H12+H13 -> 19261223 | I14: =I12+I13 -> 20108162 | J14: =J12+J13 -> 21021829
A15: RAZLIKA - VIŠAK / MANJAK | F15: =F11-F14 -> -1584279 | G15: =G11-G14 -> -134522 | H15: =H11-H14 -> -76961 | I15: =I11-I14 -> 0 | J15: =J11-J14 -> 0
A17: B. SAŽETAK RAČUNA FINANCIRANJA
A19: BROJČANA OZNAKA I NAZIV | F19: IZVRŠENJE 2025. | G19: TEKUĆI PLAN 2026. | H19: PLAN ZA 2027. | I19: PROJEKCIJA ZA 2028. | J19: PROJEKCIJA ZA 2029.
A20: 1 | F20: 2 | G20: 3 | H20: 4 | I20: 5 | J20: 6
A21: 8 PRIMICI OD FINANCIJSKE IMOVINE I ZADUŽIVANJA | F21: 0 | G21: 0 | H21: 0 | I21: 0 | J21: 0
A22: 5 IZDACI ZA FINANCIJSKU IMOVINU I OTPLATE ZAJMOVA | F22: 7756.42 | G22: 0 | H22: 0 | I22: 0 | J22: 0
A23: RAZLIKA PRIMITAKA I IZDATAKA | F23: =F21-F22 -> -7756.42 | G23: =G21-G22 -> 0 | H23: =H21-H22 -> 0 | I23: =I21-I22 -> 0 | J23: =J21-J22 -> 0
A24: PRIJENOS SREDSTAVA IZ PRETHODNE GODINE | F24: 304748 | G24: 170822 | H24: 177188 | I24: 100227 | J24: 100227
A25: PRIJENOS SREDSTAVA U SLJEDEĆE RAZDOBLJE | F25: 170822 | G25: 36300 | H25: 100227 | I25: 100227 | J25: 100227
A26: NETO FINANCIRANJE | F26: =F23+F24-F25 -> 126169.58 | G26: =G23+G24-G25 -> 134522 | H26: =H23+H24-H25 -> 76961 | I26: =I23+I24-I25 -> 0 | J26: =J23+J24-J25 -> 0
A27: VIŠAK / MANJAK + NETO FINANCIRANJE | F27: =F15+F26 -> -1458109.4 | G27: =G15+G26 -> 0 | H27: =H15+H26 -> 0 | I27: =I15+I26 -> 0 | J27: =J15+J26 -> 0

Sheet  Račun prihoda i rashoda-ekonom
A2: I. OPĆI DIO
A4: A. RAČUN PRIHODA I RASHODA
A6: A1. PRIHODI I RASHODI PREMA EKONOMSKOJ KLASIFIKACIJI
A8: BROJČANA OZNAKA I NAZIV | D8: IZVRŠENJE 2025. | E8: TEKUĆI PLAN 2026. | F8: PLAN ZA 2027. | G8: PROJEKCIJA ZA 2028. | H8: PROJEKCIJA ZA 2029.
A9: 1 | D9: 2 | E9: 3 | F9: 4 | G9: 5 | H9: 6
C10: UKUPNO PRIHODI | D10: =D11+D18 -> 15550446 | E10: =E11+E18 -> 18658661 | F10: =F11+F18 -> 19184262 | G10: =G11+G18 -> 20108162 | H10: =H11+H18 -> 21021829
A11: 6 | C11: Prihodi poslovanja | D11: =SUM(D12:D17) -> 15550446 | E11: =SUM(E12:E17) -> 18658661 | F11: =SUM(F12:F17) -> 19184262 | G11: =SUM(G12:G17) -> 20108162 | H11: =SUM(H12:H17) -> 21021829
B12: 63 | C12: Pomoći i inozemstva i od subjekata unutar općeg proračuna | D12: 209063.58 | E12: 25000 | F12: 0 | G12: 0 | H12: 0
B13: 64 | C13: Prihodi od imovine | D13: 217.67 | E13: 500 | F13: 500 | G13: 500 | H13: 500
B14: 65 | C14: Prihodi od upravnih i administrativnih pristojbi, pristojbi po posebnim propisima i naknada | D14: 1280816.4 | E14: 2000358 | F14: 2500358 | G14: 3000358 | H14: 3414025
B15: 66 | C15: Prihodi od prodaje proizvoda i robe te pruženih usluga i prihodi od donacija | D15: 235004.4 | E15: 109400 | F15: 120100 | G15: 120100 | H15: 120100
B16: 67 | C16: Prihodi iz nadležnog proračuna i od HZZO-a temeljem ugovornih obveza | D16: 13771067 | E16: 16477403 | F16: 16483904 | G16: 16907804 | H16: 17407804
B17: 68 | C17: Kazne, upravne mjere i ostali prihodi | D17: 54277.55 | E17: 46000 | F17: 79400 | G17: 79400 | H17: 79400
C18: Prihodi od prodaje nefinancijske imovine
B19: 71 | C19: Prihodi od prodaje neproizvedene dugotrajne imovine | F19: 0 | G19: 0 | H19: 0
A21: BROJČANA OZNAKA I NAZIV | D21: IZVRŠENJE 2025. | E21: TEKUĆI PLAN 2026. | F21: PLAN ZA 2027. | G21: PROJEKCIJA ZA 2028. | H21: PROJEKCIJA ZA 2029.
A22: 1 | D22: 2 | E22: 3 | F22: 2 | G22: 3 | H22: 4
C23: UKUPNO RASHODI | D23: =D24+D29+D33 -> 17134725 | E23: =E24+E29+E33 -> 18793183 | F23: =F24+F29+F33 -> 19261223 | G23: =G24+G29+G33 -> 20108162 | H23: =H24+H29+H33 -> 21021829
A24: 3 | C24: Rashodi poslovanja | D24: =D25+D26+D27+D28 -> 16318613 | E24: =E25+E26+E27+E28 -> 17972410 | F24: =F25+F26+F27+F28 -> 18372328 | G24: =G25+G26+G27+G28 -> 19296228 | H24: =H25+H26+H27+H28 -> 20209895
B25: 31 | C25: Rashodi za zaposlene | D25: 12258446 | E25: 13406960 | F25: 13393272 | G25: 14305889 | H25: 14719556
B26: 32 | C26: Materijalni rashodi | D26: 4013940.5 | E26: 4504945 | F26: 4970561 | G26: 4981844 | H26: 5481844
B27: 34 | C27: Financijski rashodi | D27: 45230.92 | E27: 59500 | F27: 7500 | G27: 7500 | H27: 7500
B28: 38 | C28: Ostali rashodi | D28: 995.39 | E28: 1005 | F28: 995 | G28: 995 | H28: 995
A29: 4 | C29: Rashodi za nabavu nefinancijske imovine | D29: =D30+D31+D32 -> 816112.12 | E29: =E30+E31+E32 -> 820773 | F29: =F30+F31+F32 -> 888895 | G29: =G30+G31+G32 -> 811934 | H29: =H30+H31+H32 -> 811934
B30: 41 | C30: Rashodi za nabavu neproizvedene dugotrajne imovine | D30: 13191.96 | E30: 1500 | F30: 1000 | G30: 1000 | H30: 1000
B31: 42 | C31: Rashodi za nabavu proizvedene dugotrajne imovine | D31: 744912.66 | E31: 659273 | F31: 837895 | G31: 760934 | H31: 760934
B32: 45 | C32: Rashodi za dodatna ulaganja na nefinancijskoj imovini | D32: 58007.5 | E32: 160000 | F32: 50000 | G32: 50000 | H32: 50000
A33: 5 | C33: Izdaci za financijsku imovinu i otplate zajmova | F33: =F34 -> 0 | G33: =G34 -> 0 | H33: =H34 -> 0
B34: 54 | C34: Izdaci za otplatu glavnice primljenih kredita i zajmova | G34: 0 | H34: 0

Sheet  Račun prihoda i rashoda-izvori
A4: BROJČANA OZNAKA I NAZIV | B4: IZVRŠENJE 2025. | C4: TEKUĆI PLAN 2026. | D4: PLAN ZA 2027. | E4: PROJEKCIJA ZA 2028. | F4: PROJEKCIJA ZA 2029.
A5: 1 | B5: 2 | C5: 3 | D5: 4 | E5: 5 | F5: 6
A6: UKUPNO PRIHODI | B6: =B7+B9+B11+B13+B16+B18 -> 15550446 | C6: =C7+C9+C11+C13+C16+C18 -> 18658661 | D6: =D7+D9+D11+D13+D16+D18 -> 19184262 | E6: =E7+E9+E11+E13+E16+E18 -> 20108162 | F6: =F7+F9+F11+F13+F16+F18 -> 21021829
A7: 1 Opći prihodi i primici | B7: =B8 -> 1412581.1 | C7: =C8 -> 1132796 | D7: =D8 -> 750566 | E7: =E8 -> 760799 | F7: =F8 -> 760799
A8: 11 Opći prihodi i primici | B8: 1412581.1 | C8: 1132796 | D8: 750566 | E8: 760799 | F8: 760799
A9: 3 Vlastiti prihodi | B9: =B10 -> 208475.2 | C9: =C10 -> 141500 | D9: =D10 -> 200000 | E9: =E10 -> 200000 | F9: =F10 -> 200000
A10: 31 Vlastiti prihodi | B10: 208475.2 | C10: 141500 | D10: 200000 | E10: 200000 | F10: 200000
A11: 4 Prihodi za posebne namjene | B11: =B12 -> 13638944 | C11: =C12 -> 17344607 | D11: =D12 -> 18233338 | E11: =E12 -> 19147005 | F11: =F12 -> 20060672
A12: 43 ostali prihodi za posebne namjere | B12: 13638944 | C12: 17344607 | D12: 18233338 | E12: 19147005 | F12: 20060672
A13: 5 Ostale pomoći | B13: =B14+B15 -> 209063.58 | C13: =C14+C15 -> 25000 | D13: =D14+D15 -> 0 | E13: =E14+E15 -> 0 | F13: =F14+F15 -> 0
A14: 5011 Pomoći iz državnog proračuna kroz opće prihode i primitke | B14: 0 | C14: 20000 | D14: 0 | E14: 0 | F14: 0
A15: 52 Ostale pomoći | B15: 209063.58 | C15: 5000 | D15: 0 | E15: 0 | F15: 0
A16: 6 Donacije | B16: =B17 -> 81024.42 | C16: =C17 -> 14400 | D16: =D17 -> 0 | E16: =E17 -> 0 | F16: =F17 -> 0
A17: 61 Donacije | B17: 81024.42 | C17: 14400 | D17: 0 | E17: 0 | F17: 0
A18: 7 Prihodi od prodaje ili zamjene nefinancijske imovine i naknade s naslova osiguranja | B18: =B19 -> 358.32 | C18: =C19 -> 358 | D18: =D19 -> 358 | E18: =E19 -> 358 | F18: =F19 -> 358
A19: 71 Prihodi od nefinancijske imovine i naknade štete s osnova osiguranja | B19: 358.32 | C19: 358 | D19: 358 | E19: 358 | F19: 358
A21: UKUPNO RASHODI | B21: =B22+B24+B26+B28+B31+B33 -> 17142482 | C21: =C22+C24+C26+C28+C31+C33 -> 18793183 | D21: =D22+D24+D26+D28+D31+D33 -> 19261223 | E21: =E22+E24+E26+E28+E31+E33 -> 20108162 | F21: =F22+F24+F26+F28+F31+F33 -> 21021829
A22: 1 Opći prihodi i primici | B22: =B23 -> 1412581.1 | C22: =C23 -> 1132796 | D22: =D23 -> 750566 | E22: =E23 -> 760799 | F22: =F23 -> 760799
A23: 11 Opći prihodi i primici | B23: 1412581.1 | C23: 1132796 | D23: ='Račun rashoda - poseban dio'!C5+'Račun rashoda - poseban dio'!C103 -> 750566 | E23: ='Račun rashoda - poseban dio'!D5+'Račun rashoda - poseban dio'!D103 -> 760799 | F23: ='Račun rashoda - poseban dio'!E5+'Račun rashoda - poseban dio'!E103 -> 760799
A24: 3 Vlastiti prihodi | B24: =B25 -> 222835.74 | C24: =C25 -> 141500 | D24: =D25 -> 200000 | E24: =E25 -> 200000 | F24: =F25 -> 200000
A25: 31 Vlastiti prihodi | B25: 222835.74 | C25: 141500 | D25: ='Račun rashoda - poseban dio'!C17 -> 200000 | E25: ='Račun rashoda - poseban dio'!D17 -> 200000 | F25: ='Račun rashoda - poseban dio'!E17 -> 200000
A26: 4 Prihodi za posebne namjene | B26: =B27 -> 15097052 | C26: =C27 -> 17396617 | D26: =D27 -> 18233338 | E26: =E27 -> 19147005 | F26: =F27 -> 20060672
A27: 43 ostali prihodi za posebne namjere | B27: 15097052 | C27: 17396617 | D27: ='Račun rashoda - poseban dio'!C34 -> 18233338 | E27: ='Račun rashoda - poseban dio'!D34 -> 19147005 | F27: ='Račun rashoda - poseban dio'!E34 -> 20060672
A28: 5 pomoći PK | B28: =B30 -> 327529.6 | C28: =C29+C30 -> 25000 | D28: =D29+D30 -> 0 | E28: =E29+E30 -> 0 | F28: =F29+F30 -> 0
A29: 5011 Pomoći iz državnog proračuna kroz opće prihode i primitke | B29: 0 | C29: 20000 | D29: 0 | E29: 0 | F29: 0
A30: 52 Pomoći PK | B30: 327529.6 | C30: 5000 | D30: ='Račun rashoda - poseban dio'!C88 -> 0 | E30: ='Račun rashoda - poseban dio'!D88 -> 0 | F30: ='Račun rashoda - poseban dio'!E88 -> 0
A31: 6 Donacije | B31: =B32 -> 82124.42 | C31: =C32 -> 14400 | D31: =D32 -> 0 | E31: =E32 -> 0 | F31: =F32 -> 0
A32: 61 Donacije | B32: 82124.42 | C32: 14400 | D32: 0 | E32: 0 | F32: 0
A33: 7 Prihodi od prodaje ili zamjene nefinancijske imovine i naknade s naslova osiguranja | B33: =B34 -> 358.32 | C33: =C34 -> 82870 | D33: =D34 -> 77319 | E33: =E34 -> 358 | F33: =F34 -> 358
A34: 71 Prihodi od nefinancijske imovine i naknade štete s osnova osiguranja | B34: 358.32 | C34: 82870 | D34: ='Račun rashoda - poseban dio'!C92 -> 77319 | E34: ='Račun rashoda - poseban dio'!D92 -> 358 | F34: ='Račun rashoda - poseban dio'!E92 -> 358
A35: …

Sheet  Račun rashoda-funkcija
A2: A3. RASHODI PREMA FUNKCIJSKOJ KLASIFIKACIJI
A4: BROJČANA OZNAKA I NAZIV | B4: IZVRŠENJE 2025. | C4: TEKUĆI PLAN 2026. | D4: PLAN ZA 2027. | E4: PROJEKCIJA ZA 2028. | F4: PROJEKCIJA ZA 2029.
A5: 1 | B5: 2 | C5: 3 | D5: 4 | E5: 5 | F5: 6
A6: UKUPNO RASHODI | B6: =B7 -> 17142482 | C6: =C7 -> 18793183 | D6: =D7 -> 19261223 | E6: =E7 -> 20108162 | F6: =F7 -> 21021829
A7: 01 Opće javne usluge | B7: =B8 -> 17142482 | C7: =C8 -> 18793183 | D7: =D8 -> 19261223 | E7: =E8 -> 20108162 | F7: =F8 -> 21021829
A8: 07 Zdravstvo | B8: =B9 -> 17142482 | C8: =C9 -> 18793183 | D8: =D9 -> 19261223 | E8: =E9 -> 20108162 | F8: =F9 -> 21021829
A9: 073 Bolničke službe | B9: =B10 -> 17142482 | C9: =C10 -> 18793183 | D9: =D10 -> 19261223 | E9: =E10 -> 20108162 | F9: =F10 -> 21021829
A10: 0731 Usluge općih bolnica | B10: 17142482 | C10: 18793183 | D10: ='Račun rashoda - poseban dio'!C3 -> 19261223 | E10: ='Račun rashoda - poseban dio'!D3 -> 20108162 | F10: ='Račun rashoda - poseban dio'!E3 -> 21021829

Sheet Račun rashoda - poseban dio
A2: ŠIFRA | B2: OPIS | C2: PRIJEDLOG 2027. | D2: PRIJEDLOG 2028. | E2: PRIJEDLOG 2029. | F2: AK 2
A3: 32481 | B3: Opća županijska bolnica Pakrac i bolnica hrvatskih veterana | C3: =SUM(C4+C15) -> 19261223 | D3: =SUM(D4+D15) -> 20108162 | E3: =SUM(E4+E15) -> 21021829 | F3: UST
A4: 3602 | B4: INVESTICIJE U ZDRAVSTVENU INFRASTRUKTURU | C4: =C5 -> 611934 | D4: =D5 -> 611934 | E4: =E5 -> 611934 | F4: PR
A5: K957002 | B5: OPĆA ŽUPANIJSKA BOLNICA PAKRAC I BOLNICA HRVATSKIH VETERANA - IZRAVNA KAPITALNA ULAGANJA | C5: =C6 -> 611934 | D5: =D6 -> 611934 | E5: =E6 -> 611934 | F5: AK
A6: 11 | B6: Opći prihodi i primici | C6: =SUM(C7+C12) -> 611934 | D6: =SUM(D7+D12) -> 611934 | E6: =SUM(E7+E12) -> 611934 | F6: IF11
A7: 42 | B7: Rashodi za nabavu proizvedene dugotrajne imovine | C7: =SUM(C8) -> 611934 | D7: =SUM(D8) -> 611934 | E7: =SUM(E8) -> 611934 | F7: 2
A8: 422 | B8: Postrojenja i oprema | C8: =SUM(C9:C11) -> 611934 | D8: =SUM(D9:D11) -> 611934 | E8: =SUM(E9:E11) -> 611934 | F8: 3
A9: 4221 | B9: Uredska oprema i namještaj | C9: 117934 | D9: 137934 | E9: 137934 | F9: 4
A10: 4223 | B10: Oprema za održavanje i zaštitu | C10: 0 | D10: 0 | E10: 0 | F10: 4
A11: 4224 | B11: Medicinska i laboratorijska oprema | C11: 494000 | D11: 474000 | E11: 474000 | F11: 4
A12: 45 | B12: Rashodi za dodatna ulaganja na nefinancijskoj imovini | C12: =SUM(C13) -> 0 | D12: =SUM(D13) -> 0 | E12: =SUM(E13) -> 0 | F12: 2
A13: 451 | B13: Dodatna ulaganja na građevinskim objektima | C13: =SUM(C14) -> 0 | D13: =SUM(D14) -> 0 | E13: =SUM(E14) -> 0 | F13: 3
A14: 4511 | B14: Dodatna ulaganja na građevinskim objektima | C14: 0 | D14: 0 | E14: 0 | F14: 4
A15: 3605 | B15: SIGURNOST GRAĐANA I PRAVA NA ZDRAVSTVENE USLUGE | C15: =C16+C103 -> 18649289 | D15: =D16+D103 -> 19496228 | E15: =E16+E103 -> 20409895 | F15: PR
A16: A957001 | B16: ADMINISTRACIJA I UPRAVLJANJE (IZ EVIDENCIJSKIH PRIHODA) | C16: =C17+C34+C88+C92 -> 18510657 | D16: =D17+D34+D88+D92 -> 19347363 | E16: =E17+E34+E88+E92 -> 20261030 | F16: AK
A17: 31 | B17: Vlastiti prihodi | C17: =C18+C21+C31 -> 200000 | D17: =D18+D21+D31 -> 200000 | E17: =E18+E21+E31 -> 200000 | F17: IF31
A18: 41 | B18: Rashodi za nabavu neproizvedene dugotrajne imovine | C18: =C19 -> 1000 | D18: =D19 -> 1000 | E18: =E19 -> 1000 | F18: 2
A19: 412 | B19: Nematerijalna imovina | C19: =SUM(C20) -> 1000 | D19: =SUM(D20) -> 1000 | E19: =SUM(E20) -> 1000 | F19: 3
A20: 4123 | B20: Licence | C20: 1000 | D20: 1000 | E20: 1000 | F20: 4
A21: 42 | B21: Rashodi za nabavu proizvedene dugotrajne imovine | C21: =C22+C29 -> 149000 | D21: =D22+D29 -> 149000 | E21: =E22+E29 -> 149000 | F21: 2
A22: 422 | B22: Postrojenja i oprema | C22: =SUM(C23:C28) -> 144000 | D22: =SUM(D23:D28) -> 144000 | E22: =SUM(E23:E28) -> 144000 | F22: 3
A23: 4221 | B23: Uredska oprema i namještaj | C23: 84000 | D23: 84000 | E23: 84000 | F23: 4
A24: 4222 | B24: Komunikacijska oprema | C24: 0 | D24: 0 | E24: 0 | F24: 4
A25: 4223 | B25: Oprema za održavanje i zaštitu | C25: 5000 | D25: 5000 | E25: 5000 | F25: 4
A26: 4224 | B26: Medicinska i laboratorijska oprema | C26: 45000 | D26: 45000 | E26: 45000 | F26: 4
A27: 4225 | B27: Instrumenti, uređaji i strojevi | C27: 0 | D27: 0 | E27: 0 | F27: 4
A28: 4227 | B28: Uređaji, strojevi i oprema za ostale namjene | C28: 10000 | D28: 10000 | E28: 10000 | F28: 4
A29: 426 | B29: Nematerijalna proizvedena imovina | C29: =SUM(C30) -> 5000 | D29: =SUM(D30) -> 5000 | E29: =SUM(E30) -> 5000 | F29: 3
A30: 4262 | B30: Ulaganja u računalne programe | C30: 5000 | D30: 5000 | E30: 5000 | F30: 4
A31: 45 | B31: Rashodi za dodatna ulaganja na nefinancijskoj imovini | C31: =SUM(C32) -> 50000 | D31: =SUM(D32) -> 50000 | E31: =SUM(E32) -> 50000 | F31: 2
A32: 451 | B32: Dodatna ulaganja na građevinskim objektima | C32: =SUM(C33) -> 50000 | D32: =SUM(D33) -> 50000 | E32: =SUM(E33) -> 50000 | F32: 3
A33: 4511 | B33: Dodatna ulaganja na građevinskim objektima | C33: 50000 | D33: 50000 | E33: 50000 | F33: 4
A34: 43 | B34: Ostali prihodi za posebne namjene | C34: =C35+C45+C79+C85 -> 18233338 | D34: =D35+D45+D79+D85 -> 19147005 | E34: =E35+E45+E79+E85 -> 20060672 | F34: IF43
A35: 31 | B35: Rashodi za zaposlene | C35: =SUM(C36+C40+C42) -> 13393272 | D35: =SUM(D36+D40+D42) -> 14305889 | E35: =SUM(E36+E40+E42) -> 14719556 | F35: 2
A36: 311 | B36: Plaće (Bruto) | C36: =SUM(C37:C39) -> 11634572 | D36: =SUM(D37:D39) -> 12547189 | E36: =SUM(E37:E39) -> 12960856 | F36: 3
A37: 3111 | B37: Plaće za redovan rad | C37: 8734572 | D37: 9647189 | E37: 10060856 | F37: 4
A38: 3113 | B38: Place za prekovremeni rad | C38: 1500000 | D38: 1500000 | E38: 1500000 | F38: 4
A39: 3114 | B39: Plaće za posebne uvjete rada | C39: 1400000 | D39: 1400000 | E39: 1400000 | F39: 4
A40: 312 | B40: Ostali rashodi za zaposlene | C40: =SUM(C41) -> 258000 | D40: =SUM(D41) -> 258000 | E40: =SUM(E41) -> 258000 | F40: 3
A41: 3121 | B41: Ostali rashodi za zaposlene | C41: 258000 | D41: 258000 | E41: 258000 | F41: 4
A42: 313 | B42: Doprinosi na plaće | C42: =SUM(C43:C44) -> 1500700 | D42: =SUM(D43:D44) -> 1500700 | E42: =SUM(E43:E44) -> 1500700 | F42: 3
A43: 3132 | B43: Doprinosi za obvezno zdravstveno osiguranje | C43: 1500000 | D43: 1500000 | E43: 1500000 | F43: 4
A44: 3133 | B44: Doprinosi za obvezno osiguranje u slučaju nezaposlenosti | C44: 700 | D44: 700 | E44: 700 | F44: 4
A45: 32 | B45: Materijalni rashodi | C45: =C46+C51+C58+C68+C71 -> 4831929 | D45: =D46+D51+D58+D68+D71 -> 4832979 | E45: =E46+E51+E58+E68+E71 -> 5332979 | F45: 2
A46: 321 | B46: Naknade troškova zaposlenima | C46: =SUM(C47:C50) -> 228600 | D46: =SUM(D47:D50) -> 228650 | E46: =SUM(E47:E50) -> 228650 | F46: 3
A47: 3211 | B47: Službena putovanja | C47: 4500 | D47: 4550 | E47: 4550 | F47: 4
A48: 3212 | B48: Naknade za prijevoz, za rad na terenu i odvojeni život | C48: 210000 | D48: 210000 | E48: 210000 | F48: 4
A49: 3213 | B49: Stručno usavršavanje zaposlenika | C49: 14000 | D49: 14000 | E49: 14000 | F49: 4
A50: 3214 | B50: Ostale naknade troškova zaposlenima | C50: 100 | D50: 100 | E50: 100 | F50: 4
A51: 322 | B51: Rashodi za materijal i energiju | C51: =SUM(C52:C57) -> 646300 | D51: =SUM(D52:D57) -> 646300 | E51: =SUM(E52:E57) -> 646300 | F51: 3
A52: 3221 | B52: Uredski materijal i ostali materijalni rashodi | C52: 89300 | D52: 89300 | E52: 89300 | F52: 4
A53: 3222 | B53: Materijal i sirovine | C53: 160000 | D53: 160000 | E53: 160000 | F53: 4
A54: 3223 | B54: Energija | C54: 300000 | D54: 300000 | E54: 300000 | F54: 4
A55: 3224 | B55: Materijal i dijelovi za tekuće i investicijsko održavanje | C55: 55000 | D55: 55000 | E55: 55000 | F55: 4
A56: 3225 | B56: Sitni inventar i auto gume | C56: 22000 | D56: 22000 | E56: 22000 | F56: 4
A57: 3227 | B57: Službena , radna i zaštitna odjeća i obuča | C57: 20000 | D57: 20000 | E57: 20000 | F57: 4
A58: 323 | B58: Rashodi za usluge | C58: =SUM(C59:C67) -> 1225800 | D58: =SUM(D59:D67) -> 1225800 | E58: =SUM(E59:E67) -> 1225800 | F58: 3
A59: 3231 | B59: Usluge telefona, pošte i prijevoza | C59: 22000 | D59: 22000 | E59: 22000 | F59: 4
A60: 3232 | B60: Usluge tekućeg i investicijskog održavanja | C60: 212300 | D60: 212300 | E60: 212300 | F60: 4
A61: 3233 | B61: Usluge promidžbe i informiranja | C61: 5000 | D61: 5000 | E61: 5000 | F61: 4
A62: 3234 | B62: Komunalne usluge | C62: 175800 | D62: 175800 | E62: 175800 | F62: 4
A63: 3235 | B63: Zakupnine i najamnine | C63: 20000 | D63: 20000 | E63: 20000 | F63: 4
A64: 3236 | B64: Zdravstvene i veterinarske usluge | C64: 39000 | D64: 39000 | E64: 39000 | F64: 4
A65: 3237 | B65: Intelektualne i osobne usluge | C65: 456000 | D65: 456000 | E65: 456000 | F65: 4
A66: 3238 | B66: Računalne usluge | C66: 230000 | D66: 230000 | E66: 230000 | F66: 4
A67: 3239 | B67: Ostale usluge | C67: 65700 | D67: 65700 | E67: 65700 | F67: 4
A68: 325 | B68: Rashodi lijekova i potrošnog medicinskog materijala kod zdravstvenih ustanova | C68: =C69+C70 -> 2699469 | D68: =D69+D70 -> 2699469 | E68: =E69+E70 -> 3199469 | F68: 3
A69: 3251 | B69: Rashodi po osnovi utroška lijekova i potrošnog medicinskog materijala | C69: 2698469 | D69: 2698469 | E69: 3198469 | F69: 4
A70: 3252 | B70: Rashodi po osnovi otpisa lijekova i potrošnog medicinskog materijala | C70: 1000 | D70: 1000 | E70: 1000 | F70: 4
A71: 329 | B71: Ostali nespomenuti rashodi poslovanja | C71: =SUM(C72:C78) -> 31760 | D71: =SUM(D72:D78) -> 32760 | E71: =SUM(E72:E78) -> 32760 | F71: 3
A72: 3291 | B72: Naknade za rad predstavničkih i izvršnih tijela, povjerenstava i slično | C72: 12000 | D72: 13000 | E72: 13000 | F72: 4
A73: 3292 | B73: Premije osiguranja | C73: 1000 | D73: 1000 | E73: 1000 | F73: 4
A74: 3293 | B74: Reprezentacija | C74: 100 | D74: 100 | E74: 100 | F74: 4
A75: 3294 | B75: Članarine i norme | C75: 3000 | D75: 3000 | E75: 3000 | F75: 4
A76: 3295 | B76: Pristojbe i naknade | C76: 13650 | D76: 13650 | E76: 13650 | F76: 4
A77: 3296 | B77: Troškovi sudskih postupaka | C77: 2000 | D77: 2000 | E77: 2000 | F77: 4
A78: 3299 | B78: Ostali nespomenuti rashodi poslovanja | C78: 10 | D78: 10 | E78: 10 | F78: 4
A79: 34 | B79: Financijski rashodi | C79: =C80 -> 7500 | D79: =D80 -> 7500 | E79: =E80 -> 7500 | F79: 2
A80: 343 | B80: Ostali financijski rashodi | C80: =SUM(C81:C84) -> 7500 | D80: =SUM(D81:D84) -> 7500 | E80: =SUM(E81:E84) -> 7500 | F80: 3
A81: 3431 | B81: Bankarske usluge i usluge platnog prometa | C81: 6500 | D81: 6500 | E81: 6500 | F81: 4
A82: 3432 | B82: Negativne tečajne razlike i razlike zbog primjene valutne klauzule | C82: 0 | D82: 0 | E82: 0 | F82: 4
A83: 3433 | B83: Zatezne kamate | C83: 1000 | D83: 1000 | E83: 1000 | F83: 4
A84: 3434 | B84: Ostali nespomenuti financijski rashodi | C84: 0 | D84: 0 | E84: 0 | F84: 4
A85: 38 | B85: Ostali rashodi | C85: =SUM(C86) -> 637 | D85: =SUM(D86) -> 637 | E85: =SUM(E86) -> 637 | F85: 2
A86: 383 | B86: Kazne, penali i naknade štete | C86: =SUM(C87) -> 637 | D86: =SUM(D87) -> 637 | E86: =SUM(E87) -> 637 | F86: 3
A87: 3834 | B87: Ugovorene kazne i ostale naknade šteta | C87: 637 | D87: 637 | E87: 637 | F87: 4
A88: 52 | B88: Ostale pomoći | C88: =C89 -> 0 | D88: =D89 -> 0 | E88: =E89 -> 0 | F88: IF52
A89: 31 | B89: Rashodi za zaposlene | C89: =C90 -> 0 | D89: =D90 -> 0 | E89: =E90 -> 0 | F89: 2
A90: 311 | B90: Plaće (Bruto) | C90: =SUM(C91:C91) -> 0 | D90: =SUM(D91:D91) -> 0 | E90: =SUM(E91:E91) -> 0 | F90: 3
A91: 3111 | B91: Plaće za redovan rad | C91: 0 | D91: 0 | E91: 0 | F91: 4
A92: 71 | B92: Prihodi od prodaje ili zamjene nefinancijske imovine i naknade s naslova osiguranja | C92: =C93+C96+C100 -> 77319 | D92: =D93+D96+D100 -> 358 | E92: =E93+E96+E100 -> 358 | F92: IF71
A93: 38 | B93: Ostali rashodi | C93: =SUM(C94) -> 358 | D93: =SUM(D94) -> 358 | E93: =SUM(E94) -> 358 | F93: 2
A94: 383 | B94: Kazne, penali i naknade štete | C94: =C95 -> 358 | D94: =D95 -> 358 | E94: =E95 -> 358 | F94: 3
A95: 3834 | B95: Ugovorene kazne i ostale naknade šteta | C95: 358 | D95: 358 | E95: 358 | F95: 4
A96: 42 | B96: Rashodi za nabavu proizvedene dugotrajne imovine | C96: =SUM(C97) -> 76961 | D96: =SUM(D97) -> 0 | E96: =SUM(E97) -> 0 | F96: 2
A97: 422 | B97: Postrojenja i oprema | C97: =C98+C99 -> 76961 | D97: =D98+D99 -> 0 | E97: =E98+E99 -> 0 | F97: 3
A98: 4221 | B98: Uredska oprema i namještaj | C98: 0 | D98: 0 | E98: 0 | F98: 4
A99: 4224 | B99: Medicinska i laboratorijska oprema | C99: 76961 | D99: 0 | E99: 0 | F99: 4
A100: 45 | B100: Rashodi za dodatna ulaganja na nefinancijskoj imovini | C100: =SUM(C101) -> 0 | D100: =SUM(D101) -> 0 | E100: =SUM(E101) -> 0 | F100: 2
A101: 451 | B101: Dodatna ulaganja na građevinskim objektima | C101: =SUM(C102) -> 0 | D101: =SUM(D102) -> 0 | E101: =SUM(E102) -> 0 | F101: 3
...
